BEGIN:VCALENDAR
VERSION:2.0
PRODID:-//Town and Country Planning Association - ECPv6.15.20//NONSGML v1.0//EN
CALSCALE:GREGORIAN
METHOD:PUBLISH
X-WR-CALNAME:Town and Country Planning Association
X-ORIGINAL-URL:https://www.tcpa.org.uk
X-WR-CALDESC:Events for Town and Country Planning Association
REFRESH-INTERVAL;VALUE=DURATION:PT1H
X-Robots-Tag:noindex
X-PUBLISHED-TTL:PT1H
BEGIN:VTIMEZONE
TZID:Europe/London
BEGIN:DAYLIGHT
TZOFFSETFROM:+0000
TZOFFSETTO:+0100
TZNAME:BST
DTSTART:20210328T010000
END:DAYLIGHT
BEGIN:STANDARD
TZOFFSETFROM:+0100
TZOFFSETTO:+0000
TZNAME:GMT
DTSTART:20211031T010000
END:STANDARD
BEGIN:DAYLIGHT
TZOFFSETFROM:+0000
TZOFFSETTO:+0100
TZNAME:BST
DTSTART:20220327T010000
END:DAYLIGHT
BEGIN:STANDARD
TZOFFSETFROM:+0100
TZOFFSETTO:+0000
TZNAME:GMT
DTSTART:20221030T010000
END:STANDARD
BEGIN:DAYLIGHT
TZOFFSETFROM:+0000
TZOFFSETTO:+0100
TZNAME:BST
DTSTART:20230326T010000
END:DAYLIGHT
BEGIN:STANDARD
TZOFFSETFROM:+0100
TZOFFSETTO:+0000
TZNAME:GMT
DTSTART:20231029T010000
END:STANDARD
END:VTIMEZONE
BEGIN:VEVENT
DTSTART;TZID=Europe/London:20221124T173000
DTEND;TZID=Europe/London:20221124T203000
DTSTAMP:20260422T054212
CREATED:20220928T143429Z
LAST-MODIFIED:20221121T144715Z
UID:10000075-1669311000-1669321800@www.tcpa.org.uk
SUMMARY:Sir Frederic J Osborn memorial event 2022: The poetry of place
DESCRIPTION:New rescheduled date (due to rail strikes) \n\n\n\n\n\n\n\n\nJoin us for an evening of poetry\, drinks and discussion for our annual event in memory of Sir Frederic J Osborn. Osborn was an important figure in the TCPA’s history. A passionate campaigner for healthy places and social justice\, Osborn was instrumental in securing the New Towns legislation\, which enabled 32 new towns to be established across the UK as part of creating and rebuilding homes and communities following the Second World War. Alongside his campaigning work – Osborn wrote prolifically including satire and poetry\, and a book of his verses – ‘Can Man Plan?’ – was published in 1959. \n\n\n\nWith performances from poets Zena Edwards and Emily Hasler with Jonathan Glancey\, architectural critic\, writer and Patron of The Betjeman Society\, this event will explore how poetry and the arts can help us understand people and place. The event will touch on some of Osborn’s work and correspondence with Sir John Betjeman\, one the pre-eminent poets of the 20th century who enthused people about the value of Britain’s cities\, landscapes and architecture\, alongside contemporary perspectives on creating a sense of place. This subject complements TCPA’s wider work\, particularly on reuniting art and planning\, and on exploring how the foundations of the Garden City movement can give practical hope to 21st century communities. \n\n\n\nThe TCPA are grateful to the Lady Margaret Paterson Osborn Trust for supporting this event\, which is being held in partnership with The Betjeman Society. \n\n\n\n\n\n\n\nAgenda:\n\n\n\n17:00–18:00 – Arrivals \n\n\n\n18:10 – Welcome from Andrew Pritchard\, Chair of the TCPA  \n\n\n\n18:20 – The Poetry of Place\, with Zena Edwards\, Emily Hasler\, and Jonathan Glancey \n\n\n\n19:20 – Drinks and canapés \n\n\n\n\n\n\n\n\n\n\n\n\n\n\n\n\nPlease select the number of tickets required before clicking ‘Get Tickets’ \n\n\n\n\n\n\n\n\n\n\n\n\n\n\n\n\nCover photo: An early performance at The Dell natural amphitheatre\, part of the vibrant cultural life of the Osborns’ home at Welwyn Garden City (Courtesy of the Welwyn Garden Heritage Trust)
URL:https://www.tcpa.org.uk/event/sir-frederic-j-osborn-memorial-event-2022-exploring-a-sense-of-place/
LOCATION:Regent’s University London\, Inner Circle\, Regent’s Park\, London\, NW1 4NS
CATEGORIES:Free to Members,Memorial Lecture,Performance
ATTACH;FMTTYPE=image/png:https://www.tcpa.org.uk/wp-content/uploads/2022/09/31.png
END:VEVENT
END:VCALENDAR