BEGIN:VCALENDAR
VERSION:2.0
PRODID:-//Town and Country Planning Association - ECPv6.15.20//NONSGML v1.0//EN
CALSCALE:GREGORIAN
METHOD:PUBLISH
X-WR-CALNAME:Town and Country Planning Association
X-ORIGINAL-URL:https://www.tcpa.org.uk
X-WR-CALDESC:Events for Town and Country Planning Association
REFRESH-INTERVAL;VALUE=DURATION:PT1H
X-Robots-Tag:noindex
X-PUBLISHED-TTL:PT1H
BEGIN:VTIMEZONE
TZID:Europe/London
BEGIN:DAYLIGHT
TZOFFSETFROM:+0000
TZOFFSETTO:+0100
TZNAME:BST
DTSTART:20240331T010000
END:DAYLIGHT
BEGIN:STANDARD
TZOFFSETFROM:+0100
TZOFFSETTO:+0000
TZNAME:GMT
DTSTART:20241027T010000
END:STANDARD
BEGIN:DAYLIGHT
TZOFFSETFROM:+0000
TZOFFSETTO:+0100
TZNAME:BST
DTSTART:20250330T010000
END:DAYLIGHT
BEGIN:STANDARD
TZOFFSETFROM:+0100
TZOFFSETTO:+0000
TZNAME:GMT
DTSTART:20251026T010000
END:STANDARD
BEGIN:DAYLIGHT
TZOFFSETFROM:+0000
TZOFFSETTO:+0100
TZNAME:BST
DTSTART:20260329T010000
END:DAYLIGHT
BEGIN:STANDARD
TZOFFSETFROM:+0100
TZOFFSETTO:+0000
TZNAME:GMT
DTSTART:20261025T010000
END:STANDARD
END:VTIMEZONE
BEGIN:VEVENT
DTSTART;TZID=Europe/London:20250708T140000
DTEND;TZID=Europe/London:20250708T183000
DTSTAMP:20260421T153719
CREATED:20250528T105117Z
LAST-MODIFIED:20250707T122407Z
UID:10000161-1751983200-1751999400@www.tcpa.org.uk
SUMMARY:Development taxes and levies: their role in our future places
DESCRIPTION:A symposium as part of a joint University of Cambridge / TCPA research policy impact project. \n\n\n\nThis event is free to attend\, please RSVP at the bottom of this page. \n\n\n\nIntroduction \n\n\n\nThe issue of taxes\, levies and tariffs on the development value of land continues to be a hot topic. The government is committed to ambitious levels of house building and growth\, but support from local communities will depend on the provision of adequate supporting infrastructure\, affordable housing and development impact mitigation\, much of which is funded from increased land values. Given the time-consuming nature of planning obligations\, capturing enough value to meet these demanding place-making requirements seems likely to require increased use of non-negotiable\, formula-based and standardised developer contributions.  \n\n\n\nThe existing Community Infrastructure Levy is maturing and now raises an estimated £1.2bn per year. Planning obligations are again being used to impose tariffs or ‘roof taxes’. And although the government has decided to abandon the proposed new Infrastructure Levy\, it is proceeding with a specific Nature Restoration Levy. So\, what comes next?  \n\n\n\nAt the event we will launch a major policy paper that is based on the implications of a year-long University of Cambridge research project which re-assessed the reasons for the repeal of all previous UK development taxes since 1945. The research\, conducted at the University’s Department of Land Economy\, challenges much of the received wisdom about the failure of previous taxes and opens up new directions for policy debate. This event provides the first public opportunity to hear about the research and its striking lessons for policy makers today.  \n\n\n\nDraft Agenda \n\n\n\n2.00pmRegistration – tea and coffee availableCan we capture sufficient land value to meet the government’s housing and growth objectives? 2.30pm  Welcome and introduction from the Chair – Liz Peace 2.35pm  The policy proposals: evolution or revolution? – Hugh Ellis\, TCPA 2.50pm  Initial responses to the proposals from the panel  Tony Mulhall\, Associate Director\, RICS  Gilian Macinnes\, planning consultant  Will Jeffwitz\, National Housing Federation   Followed by questions and discussion 3.35pm Comfort break  Lessons from the resilience of past and current approaches 3.50pm Improving local areas through developer funding – Helen Hodgson\,   National Audit Office  4.05pm The research: do we know what not to do? – Miles Gibson 4.20pm Reflections on what we have learnt – Stephen Aldridge\, MHCLG4.30pm Questions and discussion 4.50pm Final reflections – Miles Gibson and Hugh Ellis 5.00pm  Thank you from the ChairClose of formal proceedings5.00pm-6.30pmRefreshments will then be served in the Council Chamber with a further opportunity to continue discussions in a more informal setting.\n\n\n\n\n\n\n\nThis project is funded by the University of Cambridge’s Social Science Impact Fund\, Department of Land Economy and Centre for Science & Policy; by the Town & Country Planning Association; and by the Lady Margaret Paterson Osborn Trust.
URL:https://www.tcpa.org.uk/event/development-taxes-and-levies-their-role-in-our-future-places/
LOCATION:Surveyors House at RICS Westminster\, 12 Great George Street\, London\, SW1P 3AD\, United Kingdom
END:VEVENT
BEGIN:VEVENT
DTSTART;TZID=Europe/London:20250729T103000
DTEND;TZID=Europe/London:20250729T114500
DTSTAMP:20260421T153719
CREATED:20250602T154716Z
LAST-MODIFIED:20250729T082730Z
UID:10000163-1753785000-1753789500@www.tcpa.org.uk
SUMMARY:Planning reform – where we think we are!
DESCRIPTION:Since the 2024 General Election it has been a busy time for planning reform with multiple consultations\, new planning legislation and more consultations expected! Join us to delve into the latest updates from the TCPA’s Policy Director\, Hugh Ellis\, and an expert on strategic planning\, Hannah Hickman. \n\n\n\n \n\n\n\nTime Speaker 10:30 Welcome from the ChairThe Rt Hon Nick Raynsford\, Chair of the Raynsford Review of Planning\, President of the TCPA and former Housing Minister 10:35 Update on planning reformsHugh Ellis\, Policy Director\, Town and Country Planning Association  10:55 Latest on strategic planningHannah Hickman\, Associate Professor – Planning Practice\, School of Architecture and Environment\, University of the West of England  11:15  Questions and discussion  11:40 Conclusions from the Chair  11:45 Close \n\n\n\n\n\n\n\n\n\n\n\n\n\n\n\n\n\n\n\n\n\n\n\n\n\n\n\n\n\n\n\n\n\n\n\n\n\nFree tickets for small charities/community groups \n\n\n\nIf you are part of a small charity or community group\, we have a number of free tickets available\, at the discretion of the TCPA. Please email jeanette.aves@tcpa.org.uk to see if you are eligible. \n\n\n\n \n\n\n\nAbout Town and Country Planning Association (TCPA) Memberships \n\n\n\nCheck to see if you are part of a New Communities Group (NCG) or TCPA member organisation
URL:https://www.tcpa.org.uk/event/planning-reform-where-we-think-we-are/
ATTACH;FMTTYPE=image/jpeg:https://www.tcpa.org.uk/wp-content/uploads/2025/06/documents_event-banner-image.jpg
END:VEVENT
END:VCALENDAR