BEGIN:VCALENDAR
VERSION:2.0
PRODID:-//Town and Country Planning Association - ECPv6.15.20//NONSGML v1.0//EN
CALSCALE:GREGORIAN
METHOD:PUBLISH
X-WR-CALNAME:Town and Country Planning Association
X-ORIGINAL-URL:https://www.tcpa.org.uk
X-WR-CALDESC:Events for Town and Country Planning Association
REFRESH-INTERVAL;VALUE=DURATION:PT1H
X-Robots-Tag:noindex
X-PUBLISHED-TTL:PT1H
BEGIN:VTIMEZONE
TZID:Europe/London
BEGIN:DAYLIGHT
TZOFFSETFROM:+0000
TZOFFSETTO:+0100
TZNAME:BST
DTSTART:20250330T010000
END:DAYLIGHT
BEGIN:STANDARD
TZOFFSETFROM:+0100
TZOFFSETTO:+0000
TZNAME:GMT
DTSTART:20251026T010000
END:STANDARD
BEGIN:DAYLIGHT
TZOFFSETFROM:+0000
TZOFFSETTO:+0100
TZNAME:BST
DTSTART:20260329T010000
END:DAYLIGHT
BEGIN:STANDARD
TZOFFSETFROM:+0100
TZOFFSETTO:+0000
TZNAME:GMT
DTSTART:20261025T010000
END:STANDARD
BEGIN:DAYLIGHT
TZOFFSETFROM:+0000
TZOFFSETTO:+0100
TZNAME:BST
DTSTART:20270328T010000
END:DAYLIGHT
BEGIN:STANDARD
TZOFFSETFROM:+0100
TZOFFSETTO:+0000
TZNAME:GMT
DTSTART:20271031T010000
END:STANDARD
END:VTIMEZONE
BEGIN:VEVENT
DTSTART;TZID=Europe/London:20260526T140000
DTEND;TZID=Europe/London:20260526T153000
DTSTAMP:20260421T044953
CREATED:20260420T131423Z
LAST-MODIFIED:20260420T132049Z
UID:10000183-1779804000-1779809400@www.tcpa.org.uk
SUMMARY:Delivering employment and commercial uses in new communities
DESCRIPTION:Delivering employment and commercial uses is often one of the most challenging aspects of good placemaking in new communities. Thriving local businesses can help build the crucial social infrastructure that residents need and will support active travel and develop a sense of place and identity.  \n\n\n\nProviding town centre activity up front poses significant cashflow and viability challenges\, while shifting trends in retail and working patterns have also impacted on investment in new business space. With this in mind\, how can we secure vibrant employment and commercial uses in new communities?   \n\n\n\nThis webinar will look at examples of what has worked to deliver employment and commercial uses\, including flexible uses\, local government intervention and colocation with government services and other anchor tenants. It will provide essential learning and case studies of how these can be delivered in the context of major housing growth.   \n\n\n\nImportant: This event is free for officers from the TCPA New Communities group (NCG)\, with paid tickets also available. You can check if your authority is a member here: TCPA New Communities Group. \n\n\n\nIf you are interested in becoming a member\, please get in touch with Lachlan Anderson-Frank: lachlan.anderson-frank@tcpa.org.uk.  \n\n\n\nThe TCPA’s New Communities Group offers support for local authorities delivering large scale housing growth through workshops\, webinars and policy briefings\, and members can access archive recordings of past events.    \n\n\n\nThis webinar is part of the TCPA New Communities Group programme of events. \n\n\n\nDraft agenda  \n\n\n\nTime Speaker 14:00 Welcome from the Chair\,  Catriona Riddell\, TCPA Vice Chair – TBC 14:05 The University of Essex as an economic anchor to Tendring Colchester Borders Garden Community Ricky Thakrar\, Economic Infrastructure Manager\, Essex County Council 14:15 Delivering anchor health uses in new communities to support vitality Jack Dunmore\, Senior Manager\, Regeneration & Infrastructure\, NHS North East London 14:25 Q&A 14:45 Enterprise zone funding to deliver Cranbrook’s town centre Naomi Harnett\, Corporate Lead – Placemaking & Major Projects\, East Devon District Council  15:05 Q&A 15:30 Close \n\n\n\n\n\n\n\n\n\n\n\n\n\n\n\n\n\n\n\n\n\nCheck to see if you are part of a New Communities Group (NCG) member organisation \n\n\n\nAbout Town and Country Planning Association (TCPA) Memberships
URL:https://www.tcpa.org.uk/event/delivering-employment-and-commercial-uses/
ATTACH;FMTTYPE=image/avif:https://www.tcpa.org.uk/wp-content/uploads/2026/04/Bath-street-1.avif
END:VEVENT
END:VCALENDAR